Workbook

Sheet Promedios
A2: ITEM | B2: DESCRICIÓN DE LOS SERVICIOS | C2: UND | D2: CANTIDAD | E2: VALOR UNITARIO PROMEDIO | F2: IVA 19% (AIU 10%) UNITARIO | G2: VALOR UNITARIO IVA INCLUIDO MENSUAL PROMEDIO | H2: VALOR TOTAL MENSUAL IVA INCLUIDO X CANTIDAD | J2: VALOR UNITARIO | K2: AYS | L2: SUBTOTAL | M2: VALOR RODAMIENTO PROMEDIO | N2: AIU | O2: IVA | P2: TOTAL MENSUAL UNITARIO
A3: 1 | B3: SERVICIO DE VIGILANCIA MOVIL MOTORIZADO 24 HORAS DEL DIA TODOS LOS DIAS DEL MES CON ARMA NO LETAL RODAMIENTO POR SERVICIO 24 HORAS. | C3: UND | D3: 26 | E3: =ROUND(AVERAGE('Cotizacion No. 1'!E8,'Cotizacion No. 2'!E8,'Cotizacion No. 3'!E8),0) -> 17409190 | F3: =ROUND((E3*10%)*19%,0) -> 330775 | G3: =E3+F3 -> 17739965 | H3: =G3*D3 -> 461239090 | J3: =((#REF!*#REF!)+#REF!) -> #REF! | K3: =+J3*0.08 -> #REF! | L3: =J3+K3 -> #REF! | M3: 3116850 | N3: =(L3+M3)*0.1 -> #REF! | O3: =N3*0.19 -> #REF! | P3: =O3+L3+M3 -> #REF! | U3: =E3*0.019 -> 330774.61
A4: 2 | B4: SERVICIO DE SEGURIDAD ARRENDAMIENTO CAMIONETA CONVENCIONAL TIPO PLATÓN MINIMO MODELO 2017 - 24 HORAS TODOS LOS DIAS DEL MES | C4: UND | D4: 1 | E4: =ROUND(AVERAGE('Cotizacion No. 1'!E9,'Cotizacion No. 2'!E9,'Cotizacion No. 3'!E9),0) -> 13113040 | F4: =ROUND((E4*10%)*19%,0) -> 249148 | G4: =E4+F4 -> 13362188 | H4: =G4*D4 -> 13362188 | J4: =8850000*1.1 -> 9735000 | L4: =J4 -> 9735000 | M4: =3000000*1.1 -> 3300000 | N4: =(L4+M4)*0.1 -> 1303500 | O4: =N4*0.19 -> 247665 | P4: =O4+L4+M4 -> 13282665
A5: 3 | B5: SERVICIO DE VIGILANCIA - CONDUCTOR 24 HORAS DEL DIA TODOS LOS DIAS DEL MES SIN ARMA Y MEDIO DE COMUNICACIÓN | C5: UND | D5: 2 | E5: =ROUND(AVERAGE('Cotizacion No. 1'!E10,'Cotizacion No. 2'!E10,'Cotizacion No. 3'!E10),0) -> 18422674 | F5: =ROUND((E5*10%)*19%,0) -> 350031 | G5: =E5+F5 -> 18772705 | H5: =G5*D5 -> 37545410 | J5: =(((#REF!+R5)*#REF!)+#REF!) -> #REF! | K5: =J5*0.08 -> #REF! | L5: =J5+K5 -> #REF! | N5: =L5*0.1 -> #REF! | O5: =+N5*0.19 -> #REF! | P5: =O5+L5 -> #REF! | R5: 385000
A6: 4 | B6: SERVICIO DE VIGILANCIA FIJA 12 HORAS DIURNAS (09:00 A 21:00) TODOS LOS DIAS DEL MES ARMA NO LETAL | C6: UND | D6: 6 | E6: =ROUND(AVERAGE('Cotizacion No. 1'!E11,'Cotizacion No. 2'!E11,'Cotizacion No. 3'!E11),0) -> 6399538 | F6: =ROUND((E6*10%)*19%,0) -> 121591 | G6: =E6+F6 -> 6521129 | H6: =G6*D6 -> 39126774 | J6: =((#REF!*#REF!)+#REF!)*0.5597/15*12 -> #REF! | K6: =J6*0.08 -> #REF! | L6: =J6+K6 -> #REF! | N6: =L6*0.1 -> #REF! | O6: =+N6*0.19 -> #REF! | P6: =O6+L6 -> #REF!
A7: 5 | B7: SERVICIO DE VIGILANCIA OPERADOR DE MEDIOS TECNOLOGICOS 24 HORAS TODOS LOS DIAS DEL MES | C7: UND | D7: 6 | E7: =ROUND(AVERAGE('Cotizacion No. 1'!E12,'Cotizacion No. 2'!E12,'Cotizacion No. 3'!E12),0) -> 14579007 | F7: =ROUND((E7*10%)*19%,0) -> 277001 | G7: =E7+F7 -> 14856008 | H7: =G7*D7 -> 89136048 | J7: =((#REF!*#REF!)+#REF!) -> #REF! | K7: =+J7*0.08 -> #REF! | L7: =J7+K7 -> #REF! | M7: =250000*1.1 -> 275000 | N7: =(L7+M7)*0.1 -> #REF! | O7: =N7*0.19 -> #REF! | P7: =O7+L7+M7 -> #REF!
E8: Valor total incluido IVA mensual | H8: =SUM(H3:H7) -> 640409510
E9: Valor 3 meses 2025. | H9: =+H8*3 -> 1921228530
P18: Entidad
H27: CANTIDAD DIAS | T27: 30 | U27: junio
A28: SERVICIOS DE VIGILANCIA Y SEGURIDAD PRIVADA - Tarifa para 15 julio 2025 hasta 31 diciembre 2025 | Q28: 1423500 | R28: 9.29 | S28: =+#REF! -> #REF! | T28: 7
A29: ITEM | B29: DESCRICIÓN DE LOS SERVICIOS | J29: Valor Base + Seguro de Vida | K29: AYS | L29: SUBTOTAL | M29: VALOR RODAMIENTO PROMEDIO | N29: AIU | O29: IVA | P29: TOTAL MENSUAL UNITARIO
A30: 1 | B30: SERVICIO DE VIGILANCIA MOVIL MOTORIZADO 24 HORAS DEL DIA TODOS LOS DIAS DEL MES CON ARMA NO LETAL RODAMIENTO POR SERVICIO 24 HORAS | J30: =(($Q$28*$R$28)+$S$28) -> #REF! | K30: =+J30*0.08 -> #REF! | L30: =J30+K30 -> #REF! | M30: 3116850 | N30: =(L30+M30)*0.1 -> #REF! | O30: =N30*0.19 -> #REF! | P30: =O30+L30+M30 -> #REF!
A31: 3 | B31: SERVICIO DE SEGURIDAD ARRENDAMIENTO CAMIONETA CONVENCIONAL TIPO PLATÓN MINIMO MODELO 2017 - 24 HORAS TODOS LOS DIAS DEL MES | J31: =8850000*1.1 -> 9735000 | L31: =J31 -> 9735000 | M31: =3000000*1.1 -> 3300000 | N31: =(L31+M31)*0.1 -> 1303500 | O31: =N31*0.19 -> 247665 | P31: =O31+L31+M31 -> 13282665
A32: 4 | B32: SERVICIO DE VIGILANCIA - CONDUCTOR 24 HORAS DEL DIA TODOS LOS DIAS DEL MES SIN ARMA Y MEDIO DE COMUNICACIÓN | J32: =(((Q28+R32)*R28)+S28) -> #REF! | K32: =J32*0.08 -> #REF! | L32: =J32+K32 -> #REF! | N32: =L32*0.1 -> #REF! | O32: =+N32*0.19 -> #REF! | P32: =O32+L32 -> #REF! | R32: =+R5 -> 385000
A33: 6 | B33: SERVICIO DE VIGILANCIA FIJA 12 HORAS DIURNAS (09:00 A 21:00) TODOS LOS DIAS DEL MES ARMA NO LETAL | J33: =((Q28*R28)+S28)*0.5597/15*12 -> #REF! | K33: =J33*0.08 -> #REF! | L33: =J33+K33 -> #REF! | N33: =L33*0.1 -> #REF! | O33: =+N33*0.19 -> #REF! | P33: =O33+L33 -> #REF!
A34: 7 | B34: SERVICIO DE VIGILANCIA OPERADOR DE MEDIOS TECNOLOGICOS 24 HORAS TODOS LOS DIAS DEL MES | J34: =(($Q$28*$R$28)+$S$28) -> #REF! | K34: =+J34*0.08 -> #REF! | L34: =J34+K34 -> #REF! | M34: =250000*1.1 -> 275000 | N34: =(L34+M34)*0.1 -> #REF! | O34: =N34*0.19 -> #REF! | P34: =O34+L34+M34 -> #REF!
O35: TOTAL MENSUAL IVA INCLUIDO
H36: TOTAL 107 DIAS | T36: 7 | U36: julio
A37: El valor TOTAL de la oferta es por la suma de: dos mil doscientos cincuenta millones, quinientos treinta y nueve mil, noventa y cuatro pesos M/Cte $2.250.539.094
L38: 2251126231
A39: Nombre del Proponente: SEGURIDAD FENIX DE COLOMBIA LTDA NIT 800,234,493-4 CARRERA 27 C 72 54 BARRIO ALCAZARES 3502121737 El valor total de la oferta incluye costos directos e indirectos, así como también el valor de los impuestos nacionales, departamentales y municipales. Nota 1. El FORMATO debe ser diligenciado por el proponente, de conformidad con las condiciones establecidas en el presente Pliego de Condiciones, so pena de rechazo de la misma. Nota 2. Este anexo debe ser diligenciado en su totalidad por el oferente y tiene que ser concordante con todo el contenido de su oferta y cada una de las exigencias de carácter técnico descritas en el Anexo No. 01 y de las adendas (si las hay) del proceso de selección. Nota 3. Serán de exclusiva responsabilidad del proponente los errores u omisiones en que incurra al indicar el valor de su propuesta. En caso de no estar obligado a la retención del IVA, no diligenciar dicho campo en la oferta económica, e indicar de forma clara si no está obligado. Nota 4. Los impuestos deben ir incluidos dentro de la propuesta y no como un punto o ítem diferente, deben estar en la totalidad de los costos. Nota 5. La Entidad sólo efectuará correcciones aritméticas originadas por: A. Todas las operaciones aritméticas a que haya lugar en la propuesta económica. B. El ajuste al peso ya sea por exceso o por defecto de los precios unitarios contenidos en la propuesta económica de las operaciones aritméticas a que haya lugar y del valor del IVA, así: cuando la fracción decimal del peso sea igual o superior a punto cinco (0.5) se aproximará por exceso al número entero siguiente del peso y cuando la fracción decimal del peso sea inferior a punto cinco (0.5) se aproximará por defecto al número entero.

Sheet Cotizacion No. 1
A2: PRESTACIÓN DEL SERVICIO DE SEGURIDAD MÓVIL MEDIANTE PERSONAL DE UNA EMPRESA DE VIGILANCIA Y SEGURIDAD PRIVADA PARA BRINDAR APOYO A LA CENTRAL DE EMERGENCIAS Y A LOS CUADRANTES DE LA POLICÍA NACIONAL EN EL MUNICIPIO DE CHÍA
A6: Tarifa 9,29 a partir del 15 de julio 2015 - CIRCULAR EXTERNA N° 20241300000445 30/12/2024 TARIFAS MINIMAS PARA LA CONTRATACIÓN DEL SERVICIO DE VIGILANCIA Y SEGURIDAD PRIVADA EN LA VIGENCIA 2025. | Q6: 1423500 | R6: 9.29 | S6: 10000
A7: ITEM | B7: DESCRICIÓN DE LOS SERVICIOS | C7: UND | D7: CANTIDAD | E7: VALOR UNITARIO | F7: IVA 19% (AIU 10%) | G7: VALOR UNITARIO IVA INCLUIDO MENSUAL | H7: VALOR TOTAL MENSUAL IVA INCLUIDO X CANTIDAD | J7: VALOR UNITARIO | K7: AYS | L7: SUBTOTAL | M7: VALOR RODAMIENTO PROMEDIO | N7: AIU | O7: IVA | P7: TOTAL MENSUAL UNITARIO
A8: 1 | B8: SERVICIO DE VIGILANCIA MOVIL MOTORIZADO 24 HORAS DEL DIA TODOS LOS DIAS DEL MES CON ARMA NO LETAL RODAMIENTO POR SERVICIO 24 HORAS. | C8: UND | D8: 26 | E8: =+L8+M8 -> 17409910 | F8: =O8 -> 330788.29 | G8: =E8+F8 -> 17740698 | H8: =+G8*D8 -> 4.6125816e+08 | J8: =(($Q$6*$R$6)+$S$6) -> 13234315 | K8: =+J8*0.08 -> 1058745.2 | L8: =J8+K8 -> 14293060 | M8: 3116850 | N8: =(L8+M8)*0.1 -> 1740991 | O8: =N8*0.19 -> 330788.29 | P8: =O8+L8+M8 -> 17740698
A9: 2 | B9: SERVICIO DE SEGURIDAD ARRENDAMIENTO CAMIONETA CONVENCIONAL TIPO PLATÓN MINIMO MODELO 2017 - 24 HORAS TODOS LOS DIAS DEL MES | C9: UND | D9: 1 | E9: =+L9+M9 -> 13035000 | F9: =O9 -> 247665 | G9: =E9+F9 -> 13282665 | H9: =+G9*D9 -> 13282665 | J9: =8850000*1.1 -> 9735000 | L9: =J9 -> 9735000 | M9: =3000000*1.1 -> 3300000 | N9: =(L9+M9)*0.1 -> 1303500 | O9: =N9*0.19 -> 247665 | P9: =O9+L9+M9 -> 13282665
A10: 3 | B10: SERVICIO DE VIGILANCIA - CONDUCTOR 24 HORAS DEL DIA TODOS LOS DIAS DEL MES SIN ARMA Y MEDIO DE COMUNICACIÓN | C10: UND | D10: 2 | E10: =+L10 -> 18155842 | F10: =O10 -> 344961 | G10: =E10+F10 -> 18500803 | H10: =+G10*D10 -> 37001606 | J10: =(((Q6+R10)*R6)+S6) -> 16810965 | K10: =J10*0.08 -> 1344877.2 | L10: =J10+K10 -> 18155842 | N10: =L10*0.1 -> 1815584.2 | O10: =+N10*0.19 -> 344961 | P10: =O10+L10 -> 18500803 | R10: 385000
A11: 4 | B11: SERVICIO DE VIGILANCIA FIJA 12 HORAS DIURNAS (09:00 A 21:00) TODOS LOS DIAS DEL MES ARMA NO LETAL | C11: UND | D11: 6 | E11: =+L11 -> 6399860.6 | F11: =O11 -> 121597.35 | G11: =E11+F11 -> 6521458 | H11: =+G11*D11 -> 39128748 | J11: =((Q6*R6)+S6)*0.5597/15*12 -> 5925796.9 | K11: =J11*0.08 -> 474063.75 | L11: =J11+K11 -> 6399860.6 | N11: =L11*0.1 -> 639986.06 | O11: =+N11*0.19 -> 121597.35 | P11: =O11+L11 -> 6521458
A12: 5 | B12: SERVICIO DE VIGILANCIA OPERADOR DE MEDIOS TECNOLOGICOS 24 HORAS TODOS LOS DIAS DEL MES | C12: UND | D12: 6 | E12: =+L12+M12 -> 14568060 | F12: =O12 -> 276793.14 | G12: =E12+F12 -> 14844853 | H12: =+G12*D12 -> 89069120 | J12: =(($Q$6*$R$6)+$S$6) -> 13234315 | K12: =+J12*0.08 -> 1058745.2 | L12: =J12+K12 -> 14293060 | M12: =250000*1.1 -> 275000 | N12: =(L12+M12)*0.1 -> 1456806 | O12: =N12*0.19 -> 276793.14 | P12: =O12+L12+M12 -> 14844853
E13: Valor total incluido IVA mensual | H13: =SUM(H8:H12) -> 6.397403e+08
E14: Valor 3 meses 2025. | H14: =+H13*3 -> 1.9192209e+09
P23: Entidad
H32: CANTIDAD DIAS | T32: 30 | U32: junio
A33: SERVICIOS DE VIGILANCIA Y SEGURIDAD PRIVADA - Tarifa para 15 julio 2025 hasta 31 diciembre 2025 | Q33: 1423500 | R33: 9.29 | S33: =+S6 -> 10000 | T33: 7
A34: ITEM | B34: DESCRICIÓN DE LOS SERVICIOS | J34: Valor Base + Seguro de Vida | K34: AYS | L34: SUBTOTAL | M34: VALOR RODAMIENTO PROMEDIO | N34: AIU | O34: IVA | P34: TOTAL MENSUAL UNITARIO
A35: 1 | B35: SERVICIO DE VIGILANCIA MOVIL MOTORIZADO 24 HORAS DEL DIA TODOS LOS DIAS DEL MES CON ARMA NO LETAL RODAMIENTO POR SERVICIO 24 HORAS | J35: =(($Q$33*$R$33)+$S$33) -> 13234315 | K35: =+J35*0.08 -> 1058745.2 | L35: =J35+K35 -> 14293060 | M35: 3116850 | N35: =(L35+M35)*0.1 -> 1740991 | O35: =N35*0.19 -> 330788.29 | P35: =O35+L35+M35 -> 17740698
A36: 3 | B36: SERVICIO DE SEGURIDAD ARRENDAMIENTO CAMIONETA CONVENCIONAL TIPO PLATÓN MINIMO MODELO 2017 - 24 HORAS TODOS LOS DIAS DEL MES | J36: =8850000*1.1 -> 9735000 | L36: =J36 -> 9735000 | M36: =3000000*1.1 -> 3300000 | N36: =(L36+M36)*0.1 -> 1303500 | O36: =N36*0.19 -> 247665 | P36: =O36+L36+M36 -> 13282665
A37: 4 | B37: SERVICIO DE VIGILANCIA - CONDUCTOR 24 HORAS DEL DIA TODOS LOS DIAS DEL MES SIN ARMA Y MEDIO DE COMUNICACIÓN | J37: =(((Q33+R37)*R33)+S33) -> 16810965 | K37: =J37*0.08 -> 1344877.2 | L37: =J37+K37 -> 18155842 | N37: =L37*0.1 -> 1815584.2 | O37: =+N37*0.19 -> 344961 | P37: =O37+L37 -> 18500803 | R37: =+R10 -> 385000
A38: 6 | B38: SERVICIO DE VIGILANCIA FIJA 12 HORAS DIURNAS (09:00 A 21:00) TODOS LOS DIAS DEL MES ARMA NO LETAL | J38: =((Q33*R33)+S33)*0.5597/15*12 -> 5925796.9 | K38: =J38*0.08 -> 474063.75 | L38: =J38+K38 -> 6399860.6 | N38: =L38*0.1 -> 639986.06 | O38: =+N38*0.19 -> 121597.35 | P38: =O38+L38 -> 6521458
A39: 7 | B39: SERVICIO DE VIGILANCIA OPERADOR DE MEDIOS TECNOLOGICOS 24 HORAS TODOS LOS DIAS DEL MES | J39: =(($Q$33*$R$33)+$S$33) -> 13234315 | K39: =+J39*0.08 -> 1058745.2 | L39: =J39+K39 -> 14293060 | M39: =250000*1.1 -> 275000 | N39: =(L39+M39)*0.1 -> 1456806 | O39: =N39*0.19 -> 276793.14 | P39: =O39+L39+M39 -> 14844853
O40: TOTAL MENSUAL IVA INCLUIDO
H41: TOTAL 107 DIAS | T41: 7 | U41: julio
A42: El valor TOTAL de la oferta es por la suma de: dos mil doscientos cincuenta millones, quinientos treinta y nueve mil, noventa y cuatro pesos M/Cte $2.250.539.094
L43: 2251126231
A44: Nombre del Proponente: SEGURIDAD FENIX DE COLOMBIA LTDA NIT 800,234,493-4 CARRERA 27 C 72 54 BARRIO ALCAZARES 3502121737 El valor total de la oferta incluye costos directos e indirectos, así como también el valor de los impuestos nacionales, departamentales y municipales. Nota 1. El FORMATO debe ser diligenciado por el proponente, de conformidad con las condiciones establecidas en el presente Pliego de Condiciones, so pena de rechazo de la misma. Nota 2. Este anexo debe ser diligenciado en su totalidad por el oferente y tiene que ser concordante con todo el contenido de su oferta y cada una de las exigencias de carácter técnico descritas en el Anexo No. 01 y de las adendas (si las hay) del proceso de selección. Nota 3. Serán de exclusiva responsabilidad del proponente los errores u omisiones en que incurra al indicar el valor de su propuesta. En caso de no estar obligado a la retención del IVA, no diligenciar dicho campo en la oferta económica, e indicar de forma clara si no está obligado. Nota 4. Los impuestos deben ir incluidos dentro de la propuesta y no como un punto o ítem diferente, deben estar en la totalidad de los costos. Nota 5. La Entidad sólo efectuará correcciones aritméticas originadas por: A. Todas las operaciones aritméticas a que haya lugar en la propuesta económica. B. El ajuste al peso ya sea por exceso o por defecto de los precios unitarios contenidos en la propuesta económica de las operaciones aritméticas a que haya lugar y del valor del IVA, así: cuando la fracción decimal del peso sea igual o superior a punto cinco (0.5) se aproximará por exceso al número entero siguiente del peso y cuando la fracción decimal del peso sea inferior a punto cinco (0.5) se aproximará por defecto al número entero.

Sheet Cotizacion No. 2
A2: PRESTACIÓN DEL SERVICIO DE SEGURIDAD MÓVIL MEDIANTE PERSONAL DE UNA EMPRESA DE VIGILANCIA Y SEGURIDAD PRIVADA PARA BRINDAR APOYO A LA CENTRAL DE EMERGENCIAS Y A LOS CUADRANTES DE LA POLICÍA NACIONAL EN EL MUNICIPIO DE CHÍA
Q5: =+Q6*R6 -> 13224315
A6: Tarifa 9,29 a partir del 15 de julio 2015 - CIRCULAR EXTERNA N° 20241300000445 30/12/2024 TARIFAS MINIMAS PARA LA CONTRATACIÓN DEL SERVICIO DE VIGILANCIA Y SEGURIDAD PRIVADA EN LA VIGENCIA 2025. | Q6: 1423500 | R6: 9.29 | S6: 8500
A7: ITEM | B7: DESCRICIÓN DE LOS SERVICIOS | C7: UND | D7: CANTIDAD | E7: VALOR UNITARIO | F7: IVA 19% (AIU 10%) | G7: VALOR UNITARIO IVA INCLUIDO MENSUAL | H7: VALOR TOTAL MENSUAL IVA INCLUIDO X CANTIDAD | J7: VALOR UNITARIO | K7: AYS | L7: SUBTOTAL | M7: VALOR RODAMIENTO PROMEDIO | N7: AIU | O7: IVA | P7: TOTAL MENSUAL UNITARIO
A8: 1 | B8: SERVICIO DE VIGILANCIA MOVIL MOTORIZADO 24 HORAS DEL DIA TODOS LOS DIAS DEL MES CON ARMA NO LETAL RODAMIENTO POR SERVICIO 24 HORAS. | C8: UND | D8: 26 | E8: =+L8+M8 -> 17408290 | F8: =O8 -> 330757.51 | G8: =E8+F8 -> 17739048 | H8: =+G8*D8 -> 4.6121524e+08 | J8: =(($Q$6*$R$6)+$S$6) -> 13232815 | K8: =+J8*0.08 -> 1058625.2 | L8: =J8+K8 -> 14291440 | M8: 3116850 | N8: =(L8+M8)*0.1 -> 1740829 | O8: =N8*0.19 -> 330757.51 | P8: =O8+L8+M8 -> 17739048
A9: 2 | B9: SERVICIO DE SEGURIDAD ARRENDAMIENTO CAMIONETA CONVENCIONAL TIPO PLATÓN MINIMO MODELO 2017 - 24 HORAS TODOS LOS DIAS DEL MES | C9: UND | D9: 1 | E9: =+L9+M9 -> 13150000 | F9: =O9 -> 249850 | G9: =E9+F9 -> 13399850 | H9: =+G9*D9 -> 13399850 | J9: 9850000 | L9: =J9 -> 9850000 | M9: =3000000*1.1 -> 3300000 | N9: =(L9+M9)*0.1 -> 1315000 | O9: =N9*0.19 -> 249850 | P9: =O9+L9+M9 -> 13399850
A10: 3 | B10: SERVICIO DE VIGILANCIA - CONDUCTOR 24 HORAS DEL DIA TODOS LOS DIAS DEL MES SIN ARMA Y MEDIO DE COMUNICACIÓN | C10: UND | D10: 2 | E10: =+L10 -> 18806380 | F10: =O10 -> 357321.22 | G10: =E10+F10 -> 19163701 | H10: =+G10*D10 -> 38327403 | J10: =(((Q6+R10)*R6)+S6) -> 17413315 | K10: =J10*0.08 -> 1393065.2 | L10: =J10+K10 -> 18806380 | N10: =L10*0.1 -> 1880638 | O10: =+N10*0.19 -> 357321.22 | P10: =O10+L10 -> 19163701 | R10: 450000
A11: 4 | B11: SERVICIO DE VIGILANCIA FIJA 12 HORAS DIURNAS (09:00 A 21:00) TODOS LOS DIAS DEL MES ARMA NO LETAL | C11: UND | D11: 6 | E11: =+L11 -> 6399135.3 | F11: =O11 -> 121583.57 | G11: =E11+F11 -> 6520718.8 | H11: =+G11*D11 -> 39124313 | J11: =((Q6*R6)+S6)*0.5597/15*12 -> 5925125.2 | K11: =J11*0.08 -> 474010.02 | L11: =J11+K11 -> 6399135.3 | N11: =L11*0.1 -> 639913.53 | O11: =+N11*0.19 -> 121583.57 | P11: =O11+L11 -> 6520718.8
A12: 5 | B12: SERVICIO DE VIGILANCIA OPERADOR DE MEDIOS TECNOLOGICOS 24 HORAS TODOS LOS DIAS DEL MES | C12: UND | D12: 6 | E12: =+L12+M12 -> 14576440 | F12: =O12 -> 276952.36 | G12: =E12+F12 -> 14853393 | H12: =+G12*D12 -> 89120355 | J12: =(($Q$6*$R$6)+$S$6) -> 13232815 | K12: =+J12*0.08 -> 1058625.2 | L12: =J12+K12 -> 14291440 | M12: 285000 | N12: =(L12+M12)*0.1 -> 1457644 | O12: =N12*0.19 -> 276952.36 | P12: =O12+L12+M12 -> 14853393
E13: Valor total incluido IVA mensual | H13: =SUM(H8:H12) -> 6.4118716e+08
E14: Valor 3 meses 2025. | H14: =+H13*3 -> 1.9235615e+09
P23: Entidad
H32: CANTIDAD DIAS | T32: 30 | U32: junio
A33: SERVICIOS DE VIGILANCIA Y SEGURIDAD PRIVADA - Tarifa para 15 julio 2025 hasta 31 diciembre 2025 | Q33: 1423500 | R33: 9.29 | S33: =+S6 -> 8500 | T33: 7
A34: ITEM | B34: DESCRICIÓN DE LOS SERVICIOS | J34: Valor Base + Seguro de Vida | K34: AYS | L34: SUBTOTAL | M34: VALOR RODAMIENTO PROMEDIO | N34: AIU | O34: IVA | P34: TOTAL MENSUAL UNITARIO
A35: 1 | B35: SERVICIO DE VIGILANCIA MOVIL MOTORIZADO 24 HORAS DEL DIA TODOS LOS DIAS DEL MES CON ARMA NO LETAL RODAMIENTO POR SERVICIO 24 HORAS | J35: =(($Q$33*$R$33)+$S$33) -> 13232815 | K35: =+J35*0.08 -> 1058625.2 | L35: =J35+K35 -> 14291440 | M35: 3116850 | N35: =(L35+M35)*0.1 -> 1740829 | O35: =N35*0.19 -> 330757.51 | P35: =O35+L35+M35 -> 17739048
A36: 3 | B36: SERVICIO DE SEGURIDAD ARRENDAMIENTO CAMIONETA CONVENCIONAL TIPO PLATÓN MINIMO MODELO 2017 - 24 HORAS TODOS LOS DIAS DEL MES | J36: =8850000*1.1 -> 9735000 | L36: =J36 -> 9735000 | M36: =3000000*1.1 -> 3300000 | N36: =(L36+M36)*0.1 -> 1303500 | O36: =N36*0.19 -> 247665 | P36: =O36+L36+M36 -> 13282665
A37: 4 | B37: SERVICIO DE VIGILANCIA - CONDUCTOR 24 HORAS DEL DIA TODOS LOS DIAS DEL MES SIN ARMA Y MEDIO DE COMUNICACIÓN | J37: =(((Q33+R37)*R33)+S33) -> 17413315 | K37: =J37*0.08 -> 1393065.2 | L37: =J37+K37 -> 18806380 | N37: =L37*0.1 -> 1880638 | O37: =+N37*0.19 -> 357321.22 | P37: =O37+L37 -> 19163701 | R37: =+R10 -> 450000
A38: 6 | B38: SERVICIO DE VIGILANCIA FIJA 12 HORAS DIURNAS (09:00 A 21:00) TODOS LOS DIAS DEL MES ARMA NO LETAL | J38: =((Q33*R33)+S33)*0.5597/15*12 -> 5925125.2 | K38: =J38*0.08 -> 474010.02 | L38: =J38+K38 -> 6399135.3 | N38: =L38*0.1 -> 639913.53 | O38: =+N38*0.19 -> 121583.57 | P38: =O38+L38 -> 6520718.8
A39: 7 | B39: SERVICIO DE VIGILANCIA OPERADOR DE MEDIOS TECNOLOGICOS 24 HORAS TODOS LOS DIAS DEL MES | J39: =(($Q$33*$R$33)+$S$33) -> 13232815 | K39: =+J39*0.08 -> 1058625.2 | L39: =J39+K39 -> 14291440 | M39: =250000*1.1 -> 275000 | N39: =(L39+M39)*0.1 -> 1456644 | O39: =N39*0.19 -> 276762.36 | P39: =O39+L39+M39 -> 14843203
O40: TOTAL MENSUAL IVA INCLUIDO
H41: TOTAL 107 DIAS | T41: 7 | U41: julio
A42: El valor TOTAL de la oferta es por la suma de: dos mil doscientos cincuenta millones, quinientos treinta y nueve mil, noventa y cuatro pesos M/Cte $2.250.539.094
L43: 2251126231
A44: Nombre del Proponente: SEGURIDAD FENIX DE COLOMBIA LTDA NIT 800,234,493-4 CARRERA 27 C 72 54 BARRIO ALCAZARES 3502121737 El valor total de la oferta incluye costos directos e indirectos, así como también el valor de los impuestos nacionales, departamentales y municipales. Nota 1. El FORMATO debe ser diligenciado por el proponente, de conformidad con las condiciones establecidas en el presente Pliego de Condiciones, so pena de rechazo de la misma. Nota 2. Este anexo debe ser diligenciado en su totalidad por el oferente y tiene que ser concordante con todo el contenido de su oferta y cada una de las exigencias de carácter técnico descritas en el Anexo No. 01 y de las adendas (si las hay) del proceso de selección. Nota 3. Serán de exclusiva responsabilidad del proponente los errores u omisiones en que incurra al indicar el valor de su propuesta. En caso de no estar obligado a la retención del IVA, no diligenciar dicho campo en la oferta económica, e indicar de forma clara si no está obligado. Nota 4. Los impuestos deben ir incluidos dentro de la propuesta y no como un punto o ítem diferente, deben estar en la totalidad de los costos. Nota 5. La Entidad sólo efectuará correcciones aritméticas originadas por: A. Todas las operaciones aritméticas a que haya lugar en la propuesta económica. B. El ajuste al peso ya sea por exceso o por defecto de los precios unitarios contenidos en la propuesta económica de las operaciones aritméticas a que haya lugar y del valor del IVA, así: cuando la fracción decimal del peso sea igual o superior a punto cinco (0.5) se aproximará por exceso al número entero siguiente del peso y cuando la fracción decimal del peso sea inferior a punto cinco (0.5) se aproximará por defecto al número entero.

Sheet Cotizacion No. 3
A2: PRESTACIÓN DEL SERVICIO DE SEGURIDAD MÓVIL MEDIANTE PERSONAL DE UNA EMPRESA DE VIGILANCIA Y SEGURIDAD PRIVADA PARA BRINDAR APOYO A LA CENTRAL DE EMERGENCIAS Y A LOS CUADRANTES DE LA POLICÍA NACIONAL EN EL MUNICIPIO DE CHÍA
A6: Tarifa 9,29 a partir del 15 de julio 2015 - CIRCULAR EXTERNA N° 20241300000445 30/12/2024 TARIFAS MINIMAS PARA LA CONTRATACIÓN DEL SERVICIO DE VIGILANCIA Y SEGURIDAD PRIVADA EN LA VIGENCIA 2025. | Q6: 1423500 | R6: 9.29 | S6: 9500
A7: ITEM | B7: DESCRICIÓN DE LOS SERVICIOS | C7: UND | D7: CANTIDAD | E7: VALOR UNITARIO | F7: IVA 19% (AIU 10%) | G7: VALOR UNITARIO IVA INCLUIDO MENSUAL | H7: VALOR TOTAL MENSUAL IVA INCLUIDO X CANTIDAD | J7: VALOR UNITARIO | K7: AYS | L7: SUBTOTAL | M7: VALOR RODAMIENTO PROMEDIO | N7: AIU | O7: IVA | P7: TOTAL MENSUAL UNITARIO
A8: 1 | B8: SERVICIO DE VIGILANCIA MOVIL MOTORIZADO 24 HORAS DEL DIA TODOS LOS DIAS DEL MES CON ARMA NO LETAL RODAMIENTO POR SERVICIO 24 HORAS. | C8: UND | D8: 26 | E8: =+L8+M8 -> 17409370 | F8: =O8 -> 330778.03 | G8: =E8+F8 -> 17740148 | H8: =+G8*D8 -> 4.6124385e+08 | J8: =(($Q$6*$R$6)+$S$6) -> 13233815 | K8: =+J8*0.08 -> 1058705.2 | L8: =J8+K8 -> 14292520 | M8: 3116850 | N8: =(L8+M8)*0.1 -> 1740937 | O8: =N8*0.19 -> 330778.03 | P8: =O8+L8+M8 -> 17740148
A9: 2 | B9: SERVICIO DE SEGURIDAD ARRENDAMIENTO CAMIONETA CONVENCIONAL TIPO PLATÓN MINIMO MODELO 2017 - 24 HORAS TODOS LOS DIAS DEL MES | C9: UND | D9: 1 | E9: =+L9+M9 -> 13154121 | F9: =O9 -> 249928.3 | G9: =E9+F9 -> 13404049 | H9: =+G9*D9 -> 13404049 | J9: 9854121 | L9: =J9 -> 9854121 | M9: =3000000*1.1 -> 3300000 | N9: =(L9+M9)*0.1 -> 1315412.1 | O9: =N9*0.19 -> 249928.3 | P9: =O9+L9+M9 -> 13404049
A10: 3 | B10: SERVICIO DE VIGILANCIA - CONDUCTOR 24 HORAS DEL DIA TODOS LOS DIAS DEL MES SIN ARMA Y MEDIO DE COMUNICACIÓN | C10: UND | D10: 2 | E10: =+L10 -> 18305800 | F10: =O10 -> 347810.2 | G10: =E10+F10 -> 18653610 | H10: =+G10*D10 -> 37307221 | J10: =(((Q6+R10)*R6)+S6) -> 16949815 | K10: =J10*0.08 -> 1355985.2 | L10: =J10+K10 -> 18305800 | N10: =L10*0.1 -> 1830580 | O10: =+N10*0.19 -> 347810.2 | P10: =O10+L10 -> 18653610 | R10: 400000
A11: 4 | B11: SERVICIO DE VIGILANCIA FIJA 12 HORAS DIURNAS (09:00 A 21:00) TODOS LOS DIAS DEL MES ARMA NO LETAL | C11: UND | D11: 6 | E11: =+L11 -> 6399618.8 | F11: =O11 -> 121592.76 | G11: =E11+F11 -> 6521211.6 | H11: =+G11*D11 -> 39127270 | J11: =((Q6*R6)+S6)*0.5597/15*12 -> 5925573 | K11: =J11*0.08 -> 474045.84 | L11: =J11+K11 -> 6399618.8 | N11: =L11*0.1 -> 639961.88 | O11: =+N11*0.19 -> 121592.76 | P11: =O11+L11 -> 6521211.6
A12: 5 | B12: SERVICIO DE VIGILANCIA OPERADOR DE MEDIOS TECNOLOGICOS 24 HORAS TODOS LOS DIAS DEL MES | C12: UND | D12: 6 | E12: =+L12+M12 -> 14592520 | F12: =O12 -> 277257.88 | G12: =E12+F12 -> 14869778 | H12: =+G12*D12 -> 89218669 | J12: =(($Q$6*$R$6)+$S$6) -> 13233815 | K12: =+J12*0.08 -> 1058705.2 | L12: =J12+K12 -> 14292520 | M12: 300000 | N12: =(L12+M12)*0.1 -> 1459252 | O12: =N12*0.19 -> 277257.88 | P12: =O12+L12+M12 -> 14869778
E13: Valor total incluido IVA mensual | H13: =SUM(H8:H12) -> 6.4030106e+08
E14: Valor 3 meses 2025. | H14: =+H13*3 -> 1.9209032e+09
P23: Entidad
H32: CANTIDAD DIAS | T32: 30 | U32: junio
A33: SERVICIOS DE VIGILANCIA Y SEGURIDAD PRIVADA - Tarifa para 15 julio 2025 hasta 31 diciembre 2025 | Q33: 1423500 | R33: 9.29 | S33: =+S6 -> 9500 | T33: 7
A34: ITEM | B34: DESCRICIÓN DE LOS SERVICIOS | J34: Valor Base + Seguro de Vida | K34: AYS | L34: SUBTOTAL | M34: VALOR RODAMIENTO PROMEDIO | N34: AIU | O34: IVA | P34: TOTAL MENSUAL UNITARIO
A35: 1 | B35: SERVICIO DE VIGILANCIA MOVIL MOTORIZADO 24 HORAS DEL DIA TODOS LOS DIAS DEL MES CON ARMA NO LETAL RODAMIENTO POR SERVICIO 24 HORAS | J35: =(($Q$33*$R$33)+$S$33) -> 13233815 | K35: =+J35*0.08 -> 1058705.2 | L35: =J35+K35 -> 14292520 | M35: 3116850 | N35: =(L35+M35)*0.1 -> 1740937 | O35: =N35*0.19 -> 330778.03 | P35: =O35+L35+M35 -> 17740148
A36: 3 | B36: SERVICIO DE SEGURIDAD ARRENDAMIENTO CAMIONETA CONVENCIONAL TIPO PLATÓN MINIMO MODELO 2017 - 24 HORAS TODOS LOS DIAS DEL MES | J36: =8850000*1.1 -> 9735000 | L36: =J36 -> 9735000 | M36: =3000000*1.1 -> 3300000 | N36: =(L36+M36)*0.1 -> 1303500 | O36: =N36*0.19 -> 247665 | P36: =O36+L36+M36 -> 13282665
A37: 4 | B37: SERVICIO DE VIGILANCIA - CONDUCTOR 24 HORAS DEL DIA TODOS LOS DIAS DEL MES SIN ARMA Y MEDIO DE COMUNICACIÓN | J37: =(((Q33+R37)*R33)+S33) -> 16949815 | K37: =J37*0.08 -> 1355985.2 | L37: =J37+K37 -> 18305800 | N37: =L37*0.1 -> 1830580 | O37: =+N37*0.19 -> 347810.2 | P37: =O37+L37 -> 18653610 | R37: =+R10 -> 400000
A38: 6 | B38: SERVICIO DE VIGILANCIA FIJA 12 HORAS DIURNAS (09:00 A 21:00) TODOS LOS DIAS DEL MES ARMA NO LETAL | J38: =((Q33*R33)+S33)*0.5597/15*12 -> 5925573 | K38: =J38*0.08 -> 474045.84 | L38: =J38+K38 -> 6399618.8 | N38: =L38*0.1 -> 639961.88 | O38: =+N38*0.19 -> 121592.76 | P38: =O38+L38 -> 6521211.6
A39: 7 | B39: SERVICIO DE VIGILANCIA OPERADOR DE MEDIOS TECNOLOGICOS 24 HORAS TODOS LOS DIAS DEL MES | J39: =(($Q$33*$R$33)+$S$33) -> 13233815 | K39: =+J39*0.08 -> 1058705.2 | L39: =J39+K39 -> 14292520 | M39: =250000*1.1 -> 275000 | N39: =(L39+M39)*0.1 -> 1456752 | O39: =N39*0.19 -> 276782.88 | P39: =O39+L39+M39 -> 14844303
O40: TOTAL MENSUAL IVA INCLUIDO
H41: TOTAL 107 DIAS | T41: 7 | U41: julio
A42: El valor TOTAL de la oferta es por la suma de: dos mil doscientos cincuenta millones, quinientos treinta y nueve mil, noventa y cuatro pesos M/Cte $2.250.539.094
L43: 2251126231
A44: Nombre del Proponente: SEGURIDAD FENIX DE COLOMBIA LTDA NIT 800,234,493-4 CARRERA 27 C 72 54 BARRIO ALCAZARES 3502121737 El valor total de la oferta incluye costos directos e indirectos, así como también el valor de los impuestos nacionales, departamentales y municipales. Nota 1. El FORMATO debe ser diligenciado por el proponente, de conformidad con las condiciones establecidas en el presente Pliego de Condiciones, so pena de rechazo de la misma. Nota 2. Este anexo debe ser diligenciado en su totalidad por el oferente y tiene que ser concordante con todo el contenido de su oferta y cada una de las exigencias de carácter técnico descritas en el Anexo No. 01 y de las adendas (si las hay) del proceso de selección. Nota 3. Serán de exclusiva responsabilidad del proponente los errores u omisiones en que incurra al indicar el valor de su propuesta. En caso de no estar obligado a la retención del IVA, no diligenciar dicho campo en la oferta económica, e indicar de forma clara si no está obligado. Nota 4. Los impuestos deben ir incluidos dentro de la propuesta y no como un punto o ítem diferente, deben estar en la totalidad de los costos. Nota 5. La Entidad sólo efectuará correcciones aritméticas originadas por: A. Todas las operaciones aritméticas a que haya lugar en la propuesta económica. B. El ajuste al peso ya sea por exceso o por defecto de los precios unitarios contenidos en la propuesta económica de las operaciones aritméticas a que haya lugar y del valor del IVA, así: cuando la fracción decimal del peso sea igual o superior a punto cinco (0.5) se aproximará por exceso al número entero siguiente del peso y cuando la fracción decimal del peso sea inferior a punto cinco (0.5) se aproximará por defecto al número entero.
